BEGIN:VCALENDAR
VERSION:2.0
PRODID:-//SVP Luzern //NONSGML Events //EN
CALSCALE:GREGORIAN
X-WR-CALNAME:SVP Luzern
BEGIN:VEVENT
CREATED:20200929T110617Z
UID:19175
DTEND:20211201T180000
DTSTART:20211201T140000
DTSTAMP:20231024T055341Z
LOCATION:AAL\, Rest\, Murmatt\, Luzern
DESCRIPTION:
SUMMARY:Kant. Fraktionssitzung
ORGANIZER:SVP Kanton Luzern
URL;VALUE=URI:https://www.svp-lu.ch/termine/kant-fraktionssitzung-20/
TRANSP:OPAQUE
END:VEVENT
END:VCALENDAR
