BEGIN:VCALENDAR
VERSION:2.0
PRODID:-//SVP Luzern //NONSGML Events //EN
CALSCALE:GREGORIAN
X-WR-CALNAME:SVP Luzern
BEGIN:VEVENT
CREATED:20200929T110617Z
UID:19176
DTEND:20211016T100000
DTSTART:20211016T080000
DTSTAMP:20231024T060258Z
LOCATION:Kriens\, Gemeindehaus
DESCRIPTION:
SUMMARY:Sitzung Parteileitung 2021/04
ORGANIZER:
URL;VALUE=URI:https://www.svp-lu.ch/termine/sitzung-parteileitung-2021-04/
TRANSP:OPAQUE
END:VEVENT
END:VCALENDAR
