BEGIN:VCALENDAR
VERSION:2.0
PRODID:-//SVP Luzern //NONSGML Events //EN
CALSCALE:GREGORIAN
X-WR-CALNAME:SVP Luzern
BEGIN:VEVENT
CREATED:20200929T110617Z
UID:19178
DTEND:20211207T100000
DTSTART:20211207T080000
DTSTAMP:20231024T060234Z
LOCATION:Luzern
DESCRIPTION:
SUMMARY:Gottesdienst Kantonsrat
ORGANIZER:
URL;VALUE=URI:https://www.svp-lu.ch/termine/gottesdienst-kantonsrat-3/
TRANSP:OPAQUE
END:VEVENT
END:VCALENDAR
