BEGIN:VCALENDAR
VERSION:2.0
PRODID:-//SVP Luzern //NONSGML Events //EN
CALSCALE:GREGORIAN
X-WR-CALNAME:SVP Luzern
BEGIN:VEVENT
CREATED:20200929T110617Z
UID:19179
DTEND:20211208T230000
DTSTART:20211208T180000
DTSTAMP:20231024T060134Z
LOCATION:Bern
DESCRIPTION:
SUMMARY:Fraktionsessen
ORGANIZER:
URL;VALUE=URI:https://www.svp-lu.ch/termine/fraktionsessen-4/
TRANSP:OPAQUE
END:VEVENT
END:VCALENDAR
