BEGIN:VCALENDAR
VERSION:2.0
PRODID:-//SVP Luzern //NONSGML Events //EN
CALSCALE:GREGORIAN
X-WR-CALNAME:SVP Luzern
BEGIN:VEVENT
CREATED:20200929T110617Z
UID:19180
DTEND:20211208T000000
DTSTART:20211208T000000
DTSTAMP:20231024T055443Z
LOCATION:
DESCRIPTION:
SUMMARY:Maria Empfängnis
ORGANIZER:
URL;VALUE=URI:https://www.svp-lu.ch/termine/maria-empfaengnis-3/
TRANSP:OPAQUE
END:VEVENT
END:VCALENDAR
