BEGIN:VCALENDAR
VERSION:2.0
PRODID:-//SVP Luzern //NONSGML Events //EN
CALSCALE:GREGORIAN
X-WR-CALNAME:SVP Luzern
BEGIN:VEVENT
CREATED:20200929T110617Z
UID:19184
DTEND:20211217T000000
DTSTART:20211217T000000
DTSTAMP:20231024T060406Z
LOCATION:
DESCRIPTION:
SUMMARY:GL-Sitzung 2021/10
ORGANIZER:
URL;VALUE=URI:https://www.svp-lu.ch/termine/gl-sitzung-2020-10/
TRANSP:OPAQUE
END:VEVENT
END:VCALENDAR
