BEGIN:VCALENDAR
VERSION:2.0
PRODID:-//SVP Luzern //NONSGML Events //EN
CALSCALE:GREGORIAN
X-WR-CALNAME:SVP Luzern
BEGIN:VEVENT
CREATED:20200929T110617Z
UID:19186
DTEND:20211224T000000
DTSTART:20211224T000000
DTSTAMP:20231024T054938Z
LOCATION:
DESCRIPTION:
SUMMARY:Heiliger Abend
ORGANIZER:
URL;VALUE=URI:https://www.svp-lu.ch/termine/heiliger-abend-3/
TRANSP:OPAQUE
END:VEVENT
END:VCALENDAR
