BEGIN:VCALENDAR
VERSION:2.0
PRODID:-//SVP Luzern //NONSGML Events //EN
CALSCALE:GREGORIAN
X-WR-CALNAME:SVP Luzern
BEGIN:VEVENT
CREATED:20200929T110617Z
UID:19187
DTEND:20211225T000000
DTSTART:20211225T000000
DTSTAMP:20231024T060318Z
LOCATION:
DESCRIPTION:
SUMMARY:Weihnachten
ORGANIZER:
URL;VALUE=URI:https://www.svp-lu.ch/termine/weihnachten-3/
TRANSP:OPAQUE
END:VEVENT
END:VCALENDAR
