BEGIN:VCALENDAR
VERSION:2.0
PRODID:-//SVP Luzern //NONSGML Events //EN
CALSCALE:GREGORIAN
X-WR-CALNAME:SVP Luzern
BEGIN:VEVENT
CREATED:20200929T110617Z
UID:19189
DTEND:20211231T000000
DTSTART:20211231T000000
DTSTAMP:20231024T055820Z
LOCATION:
DESCRIPTION:
SUMMARY:Silvester
ORGANIZER:
URL;VALUE=URI:https://www.svp-lu.ch/termine/silvester-3/
TRANSP:OPAQUE
END:VEVENT
END:VCALENDAR
