BEGIN:VCALENDAR
VERSION:2.0
PRODID:-//SVP Luzern //NONSGML Events //EN
CALSCALE:GREGORIAN
X-WR-CALNAME:SVP Luzern
BEGIN:VEVENT
CREATED:20201022T161846Z
UID:19411
DTEND:20210928T000000
DTSTART:20210928T000000
DTSTAMP:20231024T055305Z
LOCATION:
DESCRIPTION:
SUMMARY:ABGESAGT &#8211\; SVP Frauenanlass &#8220\;World Coffee&#8221\; 28. September 2021
ORGANIZER:SVP Kanton Luzern
URL;VALUE=URI:https://www.svp-lu.ch/termine/frauenanlass-world-coffee28-september-2021/
TRANSP:OPAQUE
END:VEVENT
END:VCALENDAR
