BEGIN:VCALENDAR
VERSION:2.0
PRODID:-//SVP Luzern //NONSGML Events //EN
CALSCALE:GREGORIAN
X-WR-CALNAME:SVP Luzern
BEGIN:VEVENT
CREATED:20210422T174427Z
UID:20363
DTEND:20210925T000000
DTSTART:20210925T000000
DTSTAMP:20231024T060317Z
LOCATION:
DESCRIPTION:
SUMMARY:ABGESAGT &#8211\; Kadertag SVP Kanton Luzern
ORGANIZER:
URL;VALUE=URI:https://www.svp-lu.ch/termine/kadertag-svp-kanton-luzern/
TRANSP:OPAQUE
END:VEVENT
END:VCALENDAR
