BEGIN:VCALENDAR
VERSION:2.0
PRODID:-//SVP Luzern //NONSGML Events //EN
CALSCALE:GREGORIAN
X-WR-CALNAME:SVP Luzern
BEGIN:VEVENT
CREATED:20210511T153731Z
UID:20465
DTEND:20210610T223000
DTSTART:20210610T190000
DTSTAMP:20231024T060138Z
LOCATION:Event Chalet Galfri \, Industriestrasse 16\, 6215 Beromünster
DESCRIPTION:→Anmeldung hier unter diesem LINK← Ausführung je nach COVID Vorga
SUMMARY:Mitgliederversammlung / GV des Wahlkreises Sursee
ORGANIZER:Wahlkreis Sursee
URL;VALUE=URI:https://www.svp-lu.ch/termine/mitgliederversammlung-gv-des-wahlkreises-sursee/
TRANSP:OPAQUE
END:VEVENT
END:VCALENDAR
