BEGIN:VCALENDAR
VERSION:2.0
PRODID:-//SVP Luzern //NONSGML Events //EN
CALSCALE:GREGORIAN
X-WR-CALNAME:SVP Luzern
BEGIN:VEVENT
CREATED:20210517T171742Z
UID:20500
DTEND:20210519T230000
DTSTART:20210519T190000
DTSTAMP:20231024T055742Z
LOCATION:Im Rickensäli in Menznau
DESCRIPTION:Im "Rickensäli" in Menznau
SUMMARY:Generalversammlung der SVP Wahlkreis Willisau
ORGANIZER:SVP Wahlkreis Willisau
URL;VALUE=URI:https://www.svp-lu.ch/termine/generalversammlung-der-svp-wahlkreis-willisau/
TRANSP:OPAQUE
END:VEVENT
END:VCALENDAR
