BEGIN:VCALENDAR
VERSION:2.0
PRODID:-//SVP Luzern //NONSGML Events //EN
CALSCALE:GREGORIAN
X-WR-CALNAME:SVP Luzern
BEGIN:VEVENT
CREATED:20210601T150842Z
UID:20568
DTEND:20210628T210000
DTSTART:20210628T193000
DTSTAMP:20231024T055853Z
LOCATION:Restaurant Zellfeld\, Schenkon
DESCRIPTION:
SUMMARY:Sessionsrückblick der Sommersession 2021
ORGANIZER:Franz Grüter
URL;VALUE=URI:https://www.svp-lu.ch/termine/sessionsrueckblick-der-sondersession-2021/
TRANSP:OPAQUE
END:VEVENT
END:VCALENDAR
