BEGIN:VCALENDAR
VERSION:2.0
PRODID:-//SVP Luzern //NONSGML Events //EN
CALSCALE:GREGORIAN
X-WR-CALNAME:SVP Luzern
BEGIN:VEVENT
CREATED:20210613T135331Z
UID:20661
DTEND:20210904T103000
DTSTART:20210904T090000
DTSTAMP:20231024T060222Z
LOCATION:Gemeindezentrum Schenkon
DESCRIPTION:Unsere Generalversammlung wurde aufgrund der momentanen Versammlungs-B
SUMMARY:Generalversammlung SVP Kanton Luzern
ORGANIZER:SVP Wahlkreis Sursee
URL;VALUE=URI:https://www.svp-lu.ch/termine/generalversammlung-svp-kanton-luzern/
TRANSP:OPAQUE
END:VEVENT
END:VCALENDAR
