BEGIN:VCALENDAR
VERSION:2.0
PRODID:-//SVP Luzern //NONSGML Events //EN
CALSCALE:GREGORIAN
X-WR-CALNAME:SVP Luzern
BEGIN:VEVENT
CREATED:20210824T072235Z
UID:20915
DTEND:20210906T220000
DTSTART:20210906T193000
DTSTAMP:20231024T055234Z
LOCATION:Restaurant Löwen\, Escholzmatt
DESCRIPTION:
SUMMARY:Generalversammlung Wahlkreis Entlebuch
ORGANIZER:SVP Wahlkreis Entlebuch
URL;VALUE=URI:https://www.svp-lu.ch/termine/generalversammlung-wahlkreis-entlebuch/
TRANSP:OPAQUE
END:VEVENT
END:VCALENDAR
