BEGIN:VCALENDAR
VERSION:2.0
PRODID:-//SVP Luzern //NONSGML Events //EN
CALSCALE:GREGORIAN
X-WR-CALNAME:SVP Luzern
BEGIN:VEVENT
CREATED:20211029T123232Z
UID:22608
DTEND:20220108T120000
DTSTART:20220107T140000
DTSTAMP:20231024T055046Z
LOCATION:Bad Horn
DESCRIPTION:
SUMMARY:Bad Horn-Tagung
ORGANIZER:
URL;VALUE=URI:https://www.svp-lu.ch/termine/bad-horn-tagung-4/
TRANSP:OPAQUE
END:VEVENT
END:VCALENDAR
