BEGIN:VCALENDAR
VERSION:2.0
PRODID:-//SVP Luzern //NONSGML Events //EN
CALSCALE:GREGORIAN
X-WR-CALNAME:SVP Luzern
BEGIN:VEVENT
CREATED:20211029T123232Z
UID:22613
DTEND:20220115T153000
DTSTART:20220115T100000
DTSTAMP:20231024T060300Z
LOCATION:2732 Reconvilier\, Bern
DESCRIPTION:
SUMMARY:Eidg. Delegiertenversammlung
ORGANIZER:
URL;VALUE=URI:https://www.svp-lu.ch/termine/eidg-delegiertenversammlung-13/
TRANSP:OPAQUE
END:VEVENT
END:VCALENDAR
