BEGIN:VCALENDAR
VERSION:2.0
PRODID:-//SVP Luzern //NONSGML Events //EN
CALSCALE:GREGORIAN
X-WR-CALNAME:SVP Luzern
BEGIN:VEVENT
CREATED:20211029T123232Z
UID:22614
DTEND:20220119T220000
DTSTART:20220119T200000
DTSTAMP:20231024T055400Z
LOCATION:
DESCRIPTION:
SUMMARY:Kant. Fraktionssitzung
ORGANIZER:WK Stadt Luzern
URL;VALUE=URI:https://www.svp-lu.ch/termine/kant-fraktionssitzung-21/
TRANSP:OPAQUE
END:VEVENT
END:VCALENDAR
