BEGIN:VCALENDAR
VERSION:2.0
PRODID:-//SVP Luzern //NONSGML Events //EN
CALSCALE:GREGORIAN
X-WR-CALNAME:SVP Luzern
BEGIN:VEVENT
CREATED:20211029T123232Z
UID:22616
DTEND:20220120T000000
DTSTART:20220120T000000
DTSTAMP:20231024T055918Z
LOCATION:Pilatussaal
DESCRIPTION:
SUMMARY:Einwohnerratssitzung Kriens
ORGANIZER:
URL;VALUE=URI:https://www.svp-lu.ch/termine/einwohnerratssitzung-kriens-19/
TRANSP:OPAQUE
END:VEVENT
END:VCALENDAR
