BEGIN:VCALENDAR
VERSION:2.0
PRODID:-//SVP Luzern //NONSGML Events //EN
CALSCALE:GREGORIAN
X-WR-CALNAME:SVP Luzern
BEGIN:VEVENT
CREATED:20211029T123232Z
UID:22617
DTEND:20220127T220000
DTSTART:20220127T200000
DTSTAMP:20231024T055016Z
LOCATION:
DESCRIPTION:Infolge der erneuten Bundesrätlichen Anpassung der Corona-Schutzmassn
SUMMARY:Digitale Kant. Delegiertenversammlung
ORGANIZER:WK Land
URL;VALUE=URI:https://www.svp-lu.ch/termine/kant-delegiertenversammlung-14/
TRANSP:OPAQUE
END:VEVENT
END:VCALENDAR
