BEGIN:VCALENDAR
VERSION:2.0
PRODID:-//SVP Luzern //NONSGML Events //EN
CALSCALE:GREGORIAN
X-WR-CALNAME:SVP Luzern
BEGIN:VEVENT
CREATED:20211029T123232Z
UID:22618
DTEND:20220121T210000
DTSTART:20220121T163000
DTSTAMP:20231024T060226Z
LOCATION:
DESCRIPTION:
SUMMARY:GL-Sitzung 2022/01
ORGANIZER:WK Willisau
URL;VALUE=URI:https://www.svp-lu.ch/termine/gl-sitzung-2022-01/
TRANSP:OPAQUE
END:VEVENT
END:VCALENDAR
