BEGIN:VCALENDAR
VERSION:2.0
PRODID:-//SVP Luzern //NONSGML Events //EN
CALSCALE:GREGORIAN
X-WR-CALNAME:SVP Luzern
BEGIN:VEVENT
CREATED:20211029T123232Z
UID:22619
DTEND:20220125T000000
DTSTART:20220124T000000
DTSTAMP:20231024T055109Z
LOCATION:
DESCRIPTION:
SUMMARY:Session Kantonsrat
ORGANIZER:
URL;VALUE=URI:https://www.svp-lu.ch/termine/session-kantonsrat-26/
TRANSP:OPAQUE
END:VEVENT
END:VCALENDAR
