BEGIN:VCALENDAR
VERSION:2.0
PRODID:-//SVP Luzern //NONSGML Events //EN
CALSCALE:GREGORIAN
X-WR-CALNAME:SVP Luzern
BEGIN:VEVENT
CREATED:20211029T123233Z
UID:22621
DTEND:20220209T220000
DTSTART:20220209T193000
DTSTAMP:20231024T055757Z
LOCATION:Fahrschule Schötz\, Ohmstalerstrasse 2 6247 Schötz
DESCRIPTION:Fahrschule Schötz, Ohmstalerstrasse 2 6247 Schötz 
SUMMARY:Sitzung Parteileitung 2022/01
ORGANIZER:SVP Kanton Luzern
URL;VALUE=URI:https://www.svp-lu.ch/termine/sitzung-parteileitung-2022-01/
TRANSP:OPAQUE
END:VEVENT
END:VCALENDAR
