BEGIN:VCALENDAR
VERSION:2.0
PRODID:-//SVP Luzern //NONSGML Events //EN
CALSCALE:GREGORIAN
X-WR-CALNAME:SVP Luzern
BEGIN:VEVENT
CREATED:20211029T123233Z
UID:22622
DTEND:20220211T000000
DTSTART:20220211T000000
DTSTAMP:20231024T054854Z
LOCATION:
DESCRIPTION:
SUMMARY:Redaktionsschluss SVP NEWS (Februar)
ORGANIZER:
URL;VALUE=URI:https://www.svp-lu.ch/termine/redaktionsschluss-svp-news-februar-2/
TRANSP:OPAQUE
END:VEVENT
END:VCALENDAR
