BEGIN:VCALENDAR
VERSION:2.0
PRODID:-//SVP Luzern //NONSGML Events //EN
CALSCALE:GREGORIAN
X-WR-CALNAME:SVP Luzern
BEGIN:VEVENT
CREATED:20211029T123233Z
UID:22623
DTEND:20220213T000000
DTSTART:20220213T000000
DTSTAMP:20231024T060227Z
LOCATION:
DESCRIPTION:
SUMMARY:Eidg und Kant. Abstimmung
ORGANIZER:
URL;VALUE=URI:https://www.svp-lu.ch/termine/eidg-und-kant-abstimmung/
TRANSP:OPAQUE
END:VEVENT
END:VCALENDAR
