BEGIN:VCALENDAR
VERSION:2.0
PRODID:-//SVP Luzern //NONSGML Events //EN
CALSCALE:GREGORIAN
X-WR-CALNAME:SVP Luzern
BEGIN:VEVENT
CREATED:20211029T123233Z
UID:22626
DTEND:20220217T000000
DTSTART:20220217T000000
DTSTAMP:20231024T055445Z
LOCATION:Pilatussaal
DESCRIPTION:
SUMMARY:Einwohnerratssitzung Kriens
ORGANIZER:
URL;VALUE=URI:https://www.svp-lu.ch/termine/einwohnerratssitzung-kriens-20/
TRANSP:OPAQUE
END:VEVENT
END:VCALENDAR
