BEGIN:VCALENDAR
VERSION:2.0
PRODID:-//SVP Luzern //NONSGML Events //EN
CALSCALE:GREGORIAN
X-WR-CALNAME:SVP Luzern
BEGIN:VEVENT
CREATED:20211029T123233Z
UID:22627
DTEND:20220217T220000
DTSTART:20220217T180000
DTSTAMP:20231024T055730Z
LOCATION:Stadt Luzern
DESCRIPTION:
SUMMARY:Grossstadtratssitzung Luzern
ORGANIZER:
URL;VALUE=URI:https://www.svp-lu.ch/termine/grossstadtratssitzung-luzern-41/
TRANSP:OPAQUE
END:VEVENT
END:VCALENDAR
