BEGIN:VCALENDAR
VERSION:2.0
PRODID:-//SVP Luzern //NONSGML Events //EN
CALSCALE:GREGORIAN
X-WR-CALNAME:SVP Luzern
BEGIN:VEVENT
CREATED:20211029T123233Z
UID:22629
DTEND:20220219T173000
DTSTART:20220219T080000
DTSTAMP:20231024T055040Z
LOCATION:Linth Arena\, Näfels GL
DESCRIPTION:
SUMMARY:SVP-Jasscup
ORGANIZER:
URL;VALUE=URI:https://www.svp-lu.ch/termine/svp-jasscup-4/
TRANSP:OPAQUE
END:VEVENT
END:VCALENDAR
