BEGIN:VCALENDAR
VERSION:2.0
PRODID:-//SVP Luzern //NONSGML Events //EN
CALSCALE:GREGORIAN
X-WR-CALNAME:SVP Luzern
BEGIN:VEVENT
CREATED:20211029T123234Z
UID:22633
DTEND:20220302T000000
DTSTART:20220302T000000
DTSTAMP:20231024T055621Z
LOCATION:
DESCRIPTION:
SUMMARY:Aschermittwoch
ORGANIZER:
URL;VALUE=URI:https://www.svp-lu.ch/termine/aschermittwoch-4/
TRANSP:OPAQUE
END:VEVENT
END:VCALENDAR
