BEGIN:VCALENDAR
VERSION:2.0
PRODID:-//SVP Luzern //NONSGML Events //EN
CALSCALE:GREGORIAN
X-WR-CALNAME:SVP Luzern
BEGIN:VEVENT
CREATED:20211029T123234Z
UID:22634
DTEND:20220304T210000
DTSTART:20220304T163000
DTSTAMP:20231024T055644Z
LOCATION:
DESCRIPTION:
SUMMARY:GL-Sitzung 2022/02
ORGANIZER:WK Land
URL;VALUE=URI:https://www.svp-lu.ch/termine/gl-sitzung-2022-02/
TRANSP:OPAQUE
END:VEVENT
END:VCALENDAR
