BEGIN:VCALENDAR
VERSION:2.0
PRODID:-//SVP Luzern //NONSGML Events //EN
CALSCALE:GREGORIAN
X-WR-CALNAME:SVP Luzern
BEGIN:VEVENT
CREATED:20211029T123234Z
UID:22635
DTEND:20220308T220000
DTSTART:20220308T180000
DTSTAMP:20231024T055319Z
LOCATION:Bern
DESCRIPTION:
SUMMARY:Treffen SVP-Bundeshausfraktion mit den kantonalen Fraktionspräsidenten
ORGANIZER:
URL;VALUE=URI:https://www.svp-lu.ch/termine/treffen-svp-bundeshausfraktion-mit-den-kantonalen-fraktionspraesidenten-4/
TRANSP:OPAQUE
END:VEVENT
END:VCALENDAR
