BEGIN:VCALENDAR
VERSION:2.0
PRODID:-//SVP Luzern //NONSGML Events //EN
CALSCALE:GREGORIAN
X-WR-CALNAME:SVP Luzern
BEGIN:VEVENT
CREATED:20211029T123234Z
UID:22637
DTEND:20220312T115000
DTSTART:20220312T083000
DTSTAMP:20231024T060203Z
LOCATION:Begegnungszentrum Schenkon
DESCRIPTION:
SUMMARY:Kadertagung SVP Kanton Luzern
ORGANIZER:SVP Kanton Luzern
URL;VALUE=URI:https://www.svp-lu.ch/termine/kadertagung/
TRANSP:OPAQUE
END:VEVENT
END:VCALENDAR
