BEGIN:VCALENDAR
VERSION:2.0
PRODID:-//SVP Luzern //NONSGML Events //EN
CALSCALE:GREGORIAN
X-WR-CALNAME:SVP Luzern
BEGIN:VEVENT
CREATED:20211029T123234Z
UID:22638
DTEND:20220314T180000
DTSTART:20220314T140000
DTSTAMP:20231024T055937Z
LOCATION:Bern
DESCRIPTION:
SUMMARY:Treffen Bundesrichter
ORGANIZER:
URL;VALUE=URI:https://www.svp-lu.ch/termine/treffen-bundesrichter-4/
TRANSP:OPAQUE
END:VEVENT
END:VCALENDAR
