BEGIN:VCALENDAR
VERSION:2.0
PRODID:-//SVP Luzern //NONSGML Events //EN
CALSCALE:GREGORIAN
X-WR-CALNAME:SVP Luzern
BEGIN:VEVENT
CREATED:20211029T123235Z
UID:22648
DTEND:20220407T220000
DTSTART:20220407T193000
DTSTAMP:20231024T055418Z
LOCATION:Vogelsang
DESCRIPTION:
SUMMARY:Sitzung Parteileitung 2022/02
ORGANIZER:
URL;VALUE=URI:https://www.svp-lu.ch/termine/sitzung-parteileitung-2022-02/
TRANSP:OPAQUE
END:VEVENT
END:VCALENDAR
