BEGIN:VCALENDAR
VERSION:2.0
PRODID:-//SVP Luzern //NONSGML Events //EN
CALSCALE:GREGORIAN
X-WR-CALNAME:SVP Luzern
BEGIN:VEVENT
CREATED:20211029T123235Z
UID:22649
DTEND:20220408T140000
DTSTART:20220408T130000
DTSTAMP:20231024T055352Z
LOCATION:
DESCRIPTION:
SUMMARY:Parteileitung SVP CH
ORGANIZER:
URL;VALUE=URI:https://www.svp-lu.ch/termine/parteileitung-svp-ch-11/
TRANSP:OPAQUE
END:VEVENT
END:VCALENDAR
