BEGIN:VCALENDAR
VERSION:2.0
PRODID:-//SVP Luzern //NONSGML Events //EN
CALSCALE:GREGORIAN
X-WR-CALNAME:SVP Luzern
BEGIN:VEVENT
CREATED:20211029T123235Z
UID:22650
DTEND:20220408T190000
DTSTART:20220408T140000
DTSTAMP:20231024T055342Z
LOCATION:
DESCRIPTION:
SUMMARY:Parteileitung/Parteivorstand mit Sekretären
ORGANIZER:GR
URL;VALUE=URI:https://www.svp-lu.ch/termine/parteileitung-parteivorstand-mit-sekretaeren-15/
TRANSP:OPAQUE
END:VEVENT
END:VCALENDAR
