BEGIN:VCALENDAR
VERSION:2.0
PRODID:-//SVP Luzern //NONSGML Events //EN
CALSCALE:GREGORIAN
X-WR-CALNAME:SVP Luzern
BEGIN:VEVENT
CREATED:20211029T123235Z
UID:22652
DTEND:20220409T153000
DTSTART:20220409T100000
DTSTAMP:20231024T055722Z
LOCATION:
DESCRIPTION:
SUMMARY:Eidg.Delegiertenversammlung
ORGANIZER:GR
URL;VALUE=URI:https://www.svp-lu.ch/termine/eidg-delegiertenversammlung-14/
TRANSP:OPAQUE
END:VEVENT
END:VCALENDAR
