BEGIN:VCALENDAR
VERSION:2.0
PRODID:-//SVP Luzern //NONSGML Events //EN
CALSCALE:GREGORIAN
X-WR-CALNAME:SVP Luzern
BEGIN:VEVENT
CREATED:20211029T123235Z
UID:22653
DTEND:20220410T000000
DTSTART:20220410T000000
DTSTAMP:20231024T055718Z
LOCATION:
DESCRIPTION:
SUMMARY:Palmsonntag
ORGANIZER:
URL;VALUE=URI:https://www.svp-lu.ch/termine/palmsonntag-4/
TRANSP:OPAQUE
END:VEVENT
END:VCALENDAR
