BEGIN:VCALENDAR
VERSION:2.0
PRODID:-//SVP Luzern //NONSGML Events //EN
CALSCALE:GREGORIAN
X-WR-CALNAME:SVP Luzern
BEGIN:VEVENT
CREATED:20211029T123235Z
UID:22655
DTEND:20220414T220000
DTSTART:20220414T193000
DTSTAMP:20231024T060118Z
LOCATION:Rössli\, Wolhusen
DESCRIPTION:
SUMMARY:Kant. Delegiertenversammlung
ORGANIZER:WK Entlebuch
URL;VALUE=URI:https://www.svp-lu.ch/termine/kant-delegiertenversammlung-15/
TRANSP:OPAQUE
END:VEVENT
END:VCALENDAR
