BEGIN:VCALENDAR
VERSION:2.0
PRODID:-//SVP Luzern //NONSGML Events //EN
CALSCALE:GREGORIAN
X-WR-CALNAME:SVP Luzern
BEGIN:VEVENT
CREATED:20211029T123236Z
UID:22659
DTEND:20220418T000000
DTSTART:20220418T000000
DTSTAMP:20231024T060055Z
LOCATION:
DESCRIPTION:
SUMMARY:Ostermontag
ORGANIZER:
URL;VALUE=URI:https://www.svp-lu.ch/termine/ostermontag-4/
TRANSP:OPAQUE
END:VEVENT
END:VCALENDAR
