BEGIN:VCALENDAR
VERSION:2.0
PRODID:-//SVP Luzern //NONSGML Events //EN
CALSCALE:GREGORIAN
X-WR-CALNAME:SVP Luzern
BEGIN:VEVENT
CREATED:20211029T123236Z
UID:22662
DTEND:20220507T120000
DTSTART:20220507T080000
DTSTAMP:20231024T060018Z
LOCATION:
DESCRIPTION:
SUMMARY:Konferenz der SVP Schweiz mit den SVP-Regierungsräten
ORGANIZER:
URL;VALUE=URI:https://www.svp-lu.ch/termine/konferenz-der-svp-schweiz-mit-den-svp-regierungsraeten-4/
TRANSP:OPAQUE
END:VEVENT
END:VCALENDAR
