BEGIN:VCALENDAR
VERSION:2.0
PRODID:-//SVP Luzern //NONSGML Events //EN
CALSCALE:GREGORIAN
X-WR-CALNAME:SVP Luzern
BEGIN:VEVENT
CREATED:20211029T123236Z
UID:22664
DTEND:20220513T000000
DTSTART:20220509T000000
DTSTAMP:20231024T060245Z
LOCATION:Bern
DESCRIPTION:
SUMMARY:Evt. Sondersession National- und Ständerat
ORGANIZER:
URL;VALUE=URI:https://www.svp-lu.ch/termine/evt-sondersession-national-und-staenderat-4/
TRANSP:OPAQUE
END:VEVENT
END:VCALENDAR
