BEGIN:VCALENDAR
VERSION:2.0
PRODID:-//SVP Luzern //NONSGML Events //EN
CALSCALE:GREGORIAN
X-WR-CALNAME:SVP Luzern
BEGIN:VEVENT
CREATED:20211029T123236Z
UID:22665
DTEND:20220511T220000
DTSTART:20220511T200000
DTSTAMP:20231024T054850Z
LOCATION:
DESCRIPTION:
SUMMARY:Kant. Fraktionssitzung
ORGANIZER:WK Luzern Land
URL;VALUE=URI:https://www.svp-lu.ch/termine/kant-fraktionssitzung-23/
TRANSP:OPAQUE
END:VEVENT
END:VCALENDAR
