BEGIN:VCALENDAR
VERSION:2.0
PRODID:-//SVP Luzern //NONSGML Events //EN
CALSCALE:GREGORIAN
X-WR-CALNAME:SVP Luzern
BEGIN:VEVENT
CREATED:20211029T123236Z
UID:22667
DTEND:20220513T000000
DTSTART:20220513T000000
DTSTAMP:20231024T055856Z
LOCATION:
DESCRIPTION:
SUMMARY:Erscheinungsdatum SVP NEWS (Mai)
ORGANIZER:
URL;VALUE=URI:https://www.svp-lu.ch/termine/erscheinungsdatum-svp-news-mai-2/
TRANSP:OPAQUE
END:VEVENT
END:VCALENDAR
