BEGIN:VCALENDAR
VERSION:2.0
PRODID:-//SVP Luzern //NONSGML Events //EN
CALSCALE:GREGORIAN
X-WR-CALNAME:SVP Luzern
BEGIN:VEVENT
CREATED:20211029T123237Z
UID:22673
DTEND:20220529T000000
DTSTART:20220526T000000
DTSTAMP:20231024T055320Z
LOCATION:
DESCRIPTION:
SUMMARY:Schulferien Auffahrt Kanton Luzern
ORGANIZER:
URL;VALUE=URI:https://www.svp-lu.ch/termine/schulferien-auffahrt-kanton-luzern-2/
TRANSP:OPAQUE
END:VEVENT
END:VCALENDAR
