BEGIN:VCALENDAR
VERSION:2.0
PRODID:-//SVP Luzern //NONSGML Events //EN
CALSCALE:GREGORIAN
X-WR-CALNAME:SVP Luzern
BEGIN:VEVENT
CREATED:20211029T123237Z
UID:22674
DTEND:20220617T000000
DTSTART:20220530T000000
DTSTAMP:20231024T055622Z
LOCATION:Bern
DESCRIPTION:
SUMMARY:Session National- und Ständerat
ORGANIZER:
URL;VALUE=URI:https://www.svp-lu.ch/termine/session-national-und-staenderat-15/
TRANSP:OPAQUE
END:VEVENT
END:VCALENDAR
