BEGIN:VCALENDAR
VERSION:2.0
PRODID:-//SVP Luzern //NONSGML Events //EN
CALSCALE:GREGORIAN
X-WR-CALNAME:SVP Luzern
BEGIN:VEVENT
CREATED:20211029T123237Z
UID:22675
DTEND:20220603T210000
DTSTART:20220603T163000
DTSTAMP:20231024T055725Z
LOCATION:
DESCRIPTION:
SUMMARY:GL-Sitzung 2022/05
ORGANIZER:
URL;VALUE=URI:https://www.svp-lu.ch/termine/gl-sitzung-2022-05/
TRANSP:OPAQUE
END:VEVENT
END:VCALENDAR
