BEGIN:VCALENDAR
VERSION:2.0
PRODID:-//SVP Luzern //NONSGML Events //EN
CALSCALE:GREGORIAN
X-WR-CALNAME:SVP Luzern
BEGIN:VEVENT
CREATED:20211029T123237Z
UID:22678
DTEND:20220608T230000
DTSTART:20220608T130000
DTSTAMP:20231024T055008Z
LOCATION:
DESCRIPTION:
SUMMARY:Fraktionsausflug SVP Schweiz
ORGANIZER:
URL;VALUE=URI:https://www.svp-lu.ch/termine/fraktionsausflug-svp-schweiz-4/
TRANSP:OPAQUE
END:VEVENT
END:VCALENDAR
