BEGIN:VCALENDAR
VERSION:2.0
PRODID:-//SVP Luzern //NONSGML Events //EN
CALSCALE:GREGORIAN
X-WR-CALNAME:SVP Luzern
BEGIN:VEVENT
CREATED:20211029T123237Z
UID:22680
DTEND:20220609T220000
DTSTART:20220609T193000
DTSTAMP:20231024T060408Z
LOCATION:Vogelsang
DESCRIPTION:
SUMMARY:Sitzung Parteileitung 2022/05
ORGANIZER:
URL;VALUE=URI:https://www.svp-lu.ch/termine/sitzung-parteileitung-2022-05/
TRANSP:OPAQUE
END:VEVENT
END:VCALENDAR
